Workbook

Sheet AR
A1: Unitate de învățământ | B1: Adresa școlii | C1: E-mail școală | D1: Telefon școală | E1: Fax școală
A2: LICEUL TEOLOGIC PENTICOSTAL ARAD | B2: ARAD, STR. PETRU RAREȘ, NR. 7 | C2: lic_penticostal@yahoo.com | D2: 0357408317 | E2: 0357408317
A3: ŞCOALA GIMNAZIALĂ "ŞTEFAN BOZIAN" ŞEITIN | B3: str. Revoluției, nr.52, loc. Șeitin | C3: scoalaseitin@yahoo.com | D3: 0357402771 | E3: 0357402771
A4: ŞCOALA GIMNAZIALĂ "GHEORGHE POPOVICI" APATEU | B4: Apateu, nr. 425 Județul: Arad | C4: scoalaapateu@yahoo.com | D4: 0371383807 | E4: 0371383807
A5: ŞCOALA GIMNAZIALĂ "NICOLAE BĂLCESCU" ARAD | B5: ARAD STRADA POETULUI NR.89/A | C5: scoalanr11_nbalcescu@yahoo.com | D5: 0257349404 | E5: 0257349404
A6: LICEUL TEORETIC "MIHAI VELICIU" CHISINEU-CRIS | B6: CHISINEU CRIS, STRADA PRIMAVERII NR.3-5, JUDETUL ARAD | C6: liceulcris@gmail.com | D6: 0257350900 | E6: 0257350900
A7: ŞCOALA GIMNAZIALĂ "MIHAI EMINESCU" ARAD | B7: ARAD, STR. EPISCOPIEI, NR. 40-42 | C7: scoalagenerala_mihaieminescu@yahoo.com | D7: 0257280916 | E7: 0257467280
A8: LICEUL TEHNOLOGIC DE CONSTRUCŢII ŞI PROTECŢIA MEDIULUI ARAD | B8: ARAD STR. IOAN FLUIERAS NR. 10 C | C8: colteharad@yahoo.com | D8: 0257-275126 | E8: 0257-275126
A9: LICEUL TEHNOLOGIC "ION CREANGĂ" CURTICI | B9: Curtici, str. Revoluţiei, nr. 37 | C9: liceultehnologiccurtici@yahoo.ro | D9: 0257464147 | E9: 0257464147
A10: COLEGIUL PARTICULAR "VASILE GOLDIŞ" ARAD | B10: Arad, strada Feleacului nr.1 | C10: cpvgarad@yahoo.com | D10: 0257256394 | E10: 0257256394
A11: LICEUL TEORETIC "MIHAI VELICIU" CHISINEU-CRIS | B11: CHISINEU CRIS, STRADA PRIMAVERII, NR.3-5, JUDETUL ARAD | C11: liceulcris@gmail.com | D11: 0257350900 | E11: 0257950900
A12: LICEUL TEORETIC "JOZEF GREGOR TAJOVSKY" NĂDLAC | B12: Piața Unirii, Nr. 2, Loc. Nădlac, Jud. Arad | C12: lic_nadlac@yahoo.com | D12: 0257474340 | E12: 0257474340
A13: COLEGIUL TEHNOLOGIC DE INDUSTRIE ALIMENTARĂ ARAD | B13: ARAD, str. Lucian Blaga nr. 15 | C13: ind_alimarad2005@yahoo.com | D13: 0257281547 | E13: 0257281547
A14: GRĂDINIŢA "SAMARITEANUL" NR 11 SÂMBĂTENI | B14: Sîmbăteni, nr. 422 | C14: sgradinita@yahoo.com | D14: 0257518000
A15: ŞCOALA GIMNAZIALĂ LIVADA | B15: com.Livada,nr.80-81,jud.Arad | C15: scoala1livada@yahoo.com | D15: 0257381053 | E15: 0257381053
A16: GRĂDINIŢA PP "TOY STORY" ARAD | B16: calea timisorii nr 6 arad | C16: almona_butcovan@yahoo.com | D16: 0740146904 | E16: 0357414136
A17: GRĂDINIŢA PN "GOSEN" ARAD | B17: str, Calea Aurel Vlaicu, nr. 121-125, Arad | C17: gradinitagosen@yahoo.com | D17: 0257272477 | E17: 0257272477
A18: ŞCOALA GIMNAZIALĂ "CAIUS IACOB" ARAD | B18: ARAD, STR. NUCET NR. 3 | C18: gimnazialacaiusiacob@yahoo.com | D18: 0257-368888 | E18: 0257-368888
A19: LICEUL TEHNOLOGIC "FRANCISC NEUMAN" ARAD | B19: ARAD, STR. SAVA TEKELIJA NR.1 | C19: textilneuman@yahoo.com | D19: 0257-281942 | E19: 0257-280887
A20: ŞCOALA GIMNAZIALĂ "PĂDURENI" CHIŞINEU CRIŞ | B20: STRADA LILIACULUI, Nr. 14-16, LOC. CHIȘINEU-CRIȘ | C20: sgpadureni@yahoo.com | D20: 0257350055 | E20: 0257350055
A21: GRĂDINIŢA PP "LITTLE STAR" ARAD | B21: Arad,str.Andrei Saguna 152 | C21: littlestararad@yahoo.com | D21: 0724467423
A22: LICEUL TEORETIC "ADAM MULLER GUTTENBRUNN" ARAD | B22: STR.POSADA , NR.19 | C22: secretariat@ltamg.ro | D22: 0257286402 | E22: 0257286402
A23: ŞCOALA GIMNAZIALĂ GROŞENI | B23: str. Principala, com. Archiș, loc. Groșeni, nr. 269 | C23: scoalagroseni@yahoo.com | D23: 0257323856 | E23: 0257323856
A24: ŞCOALA GIMNAZIALĂ BUTENI | B24: COM.BUTENI ,NR.5,JUD ARAD | C24: scoalabuteni@yahoo.com | D24: 0257320088 | E24: 0257320088
A25: ŞCOALA GIMNAZIALĂ ZARAND | B25: com. Zărand, nr.901, jud.Arad | C25: scoalazarand@yahoo.com | D25: 0257359114 | E25: 0257359114
A26: ŞCOALA GIMNAZIALĂ "SIMONYI IMRE" SATU NOU | B26: SATU-NOU,nr.231,com.Mișca,jud.Arad | C26: scoala_satu_nou@yahoo.com | D26: 0257-354514 | E26: 0257-354514
A27: SCOALA "SPERANTA" MACEA | B27: Macea, nr. 780 | C27: scoala.speranta@yahoo.com | D27: 0746050690
A28: ŞCOALA GIMNAZIALĂ ŢIPAR | B28: ȚIPAR nr.261-263 com. SINTEA MARE jud.ARAD | C28: scoalatipar@yahoo.com | D28: 0257357900 | E28: 0257357900
A29: GRĂDINIŢA PP "CURCUBEUL COPIILOR" ARAD | B29: ARAD,STR.SIMION BALINT, NT.7-9 | C29: gradinitapp20@yahoo.com | D29: 0257257486 | E29: 0257257486
A30: ŞCOALA GIMNAZIALĂ "CORNELIU MICLOSI" COVĂSINŢ | B30: com.Covăsânț ,str.Corneliu Micloși,nr.28 ,jud.Arad | C30: scoalacovasant@gmail.com | D30: 0257385106 | E30: 0257385106
A31: COLEGIUL ECONOMIC ARAD | B31: Arad, Str. Mihai Eminescu, nr. 15 | C31: colecoarad@yahoo.com | D31: 0257-281529 | E31: 0257-281529
A32: COLEGIUL DE ARTE "SABIN DRAGOI" ARAD | B32: Arad, Bulevardul Revolutiei nr. 20 | C32: liceulsabindragoi@yahoo.com | D32: 0257281645 | E32: 0257281645
A33: COLEGIUL NAŢIONAL "ELENA GHIBA BIRTA" ARAD | B33: B-DUL DRAGALINA, NR.6, ARAD | C33: cngbirta@yahoo.com | D33: 0257280937 | E33: 0257281937
A34: ŞCOALA GIMNAZIALĂ VLADIMIRESCU | B34: STR. GĂRII, NR. 59, LOC. VLADIMIRESCU, JUD. ARAD | C34: scoala_vladimirescu@yahoo.com | D34: 0257514903 | E34: 0257514903
A35: LICEUL TEORETIC SEBIŞ | B35: Sebiș, bd. Victoriei, nr. 7, jud. Arad | C35: liceulsebis@yahoo.com | D35: 0257310711 | E35: 0257311063
A36: ŞCOALA GIMNAZIALĂ "PAVEL COVACI" MACEA | B36: Macea, nr.527 | C36: scoala_macea@yahoo.com | D36: 0257/536111 | E36: 0257/536111
A37: LICEUL TEHNOLOGIC DE ELECTRONICĂ ŞI AUTOMATIZĂRI "CAIUS IACOB" ARAD | B37: P-ȚA CAIUS IACOB NR.1 | C37: lic.caiusiacob@gmail.com | D37: 0257212383 | E37: 0357413591
A38: ŞCOALA GIMNAZIALĂ "TABAZDI KAROLY" ZERIND | B38: Zerind Nr. 386 cod poștal 317420 | C38: sczerind@gmail.com | D38: 0257355525 | E38: 0257355525
A39: ŞCOALA GIMNAZIALĂ "IOAN SLAVICI" ŞIRIA | B39: loc. Șiria, str.85 Infanterie, nr.1833, jud. Arad | C39: scoalasiria@yahoo.com | D39: 0257531184 | E39: 0257531184
... A45: LICEUL TEHNOLOGIC "STEFAN HELL" SÂNTANA | B45: Santana str. Ghioceilor nr.6 | C45: grupulscolarsantana@yahoo.com | D45: 0257462124 | E45: 0257462127
...

Sheet Foaie2
A2: CASA CORPULUI DIDACTIC "ALEXANDRU GAVRA" ARAD | B2: =VLOOKUP(A2,AR!A:A,1,FALSE) -> CASA CORPULUI DIDACTIC "ALEXANDRU GAVRA" ARAD
A3: CENTRUL JUDEŢEAN DE RESURSE ŞI DE ASISTENŢĂ EDUCAŢIONALĂ ARAD | B3: =VLOOKUP(A3,AR!A:A,1,FALSE) -> CENTRUL JUDEŢEAN DE RESURSE ŞI DE ASISTENŢĂ EDUCAŢIONALĂ ARAD
A4: CENTRUL ŞCOLAR PENTRU EDUCAŢIE INCLUZIVĂ ARAD | B4: =VLOOKUP(A4,AR!A:A,1,FALSE) -> CENTRUL ŞCOLAR PENTRU EDUCAŢIE INCLUZIVĂ ARAD
A5: CLUBUL COPIILOR CHIŞINEU CRIŞ | B5: =VLOOKUP(A5,AR!A:A,1,FALSE) -> CLUBUL COPIILOR CHIŞINEU CRIŞ
A6: CLUBUL COPIILOR SEBIŞ | B6: =VLOOKUP(A6,AR!A:A,1,FALSE) -> CLUBUL COPIILOR SEBIŞ
A7: CLUBUL SPORTIV ŞCOLAR "GLORIA" ARAD | B7: =VLOOKUP(A7,AR!A:A,1,FALSE) -> CLUBUL SPORTIV ŞCOLAR "GLORIA" ARAD
A8: COLEGIUL "MIHAI VITEAZUL" INEU | B8: =VLOOKUP(A8,AR!A:A,1,FALSE) -> COLEGIUL "MIHAI VITEAZUL" INEU
A9: COLEGIUL DE ARTE "SABIN DRAGOI" ARAD | B9: =VLOOKUP(A9,AR!A:A,1,FALSE) -> COLEGIUL DE ARTE "SABIN DRAGOI" ARAD
A10: COLEGIUL ECONOMIC ARAD | B10: =VLOOKUP(A10,AR!A:A,1,FALSE) -> COLEGIUL ECONOMIC ARAD
A11: COLEGIUL NAŢIONAL "ELENA GHIBA BIRTA" ARAD | B11: =VLOOKUP(A11,AR!A:A,1,FALSE) -> COLEGIUL NAŢIONAL "ELENA GHIBA BIRTA" ARAD
A12: COLEGIUL NAŢIONAL "MOISE NICOARĂ" ARAD | B12: =VLOOKUP(A12,AR!A:A,1,FALSE) -> COLEGIUL NAŢIONAL "MOISE NICOARĂ" ARAD
A13: COLEGIUL NAŢIONAL "PREPARANDIA-DIMITRIE ŢICHINDEAL" ARAD | B13: =VLOOKUP(A13,AR!A:A,1,FALSE) -> COLEGIUL NAŢIONAL "PREPARANDIA-DIMITRIE ŢICHINDEAL" ARAD
... A164: ŞCOALA SPECIALĂ "RAZA DE SOARE" ARAD | B164: =VLOOKUP(A164,AR!A:A,1,FALSE) -> ŞCOALA SPECIALĂ "RAZA DE SOARE" ARAD
