Workbook

Sheet AR
A1: Unitate de învățământ | B1: Adresa școlii | C1: E-mail școală | D1: Telefon școală | E1: Fax școală
A2: LICEUL TEOLOGIC PENTICOSTAL ARAD | B2: ARAD, STR. PETRU RAREȘ, NR. 7 | C2: lic_penticostal@yahoo.com | D2: 0357408317 | E2: 0357408317
A3: ŞCOALA GIMNAZIALĂ "ŞTEFAN BOZIAN" ŞEITIN | B3: str. Revoluției, nr.52, loc. Șeitin | C3: scoalaseitin@yahoo.com | D3: 0357402771 | E3: 0357402771
A4: ŞCOALA GIMNAZIALĂ "GHEORGHE POPOVICI" APATEU | B4: Apateu, nr. 425 Județul: Arad | C4: scoalaapateu@yahoo.com | D4: 0371383807 | E4: 0371383807
A5: ŞCOALA GIMNAZIALĂ "NICOLAE BĂLCESCU" ARAD | B5: ARAD STRADA POETULUI NR.89/A | C5: scoalanr11_nbalcescu@yahoo.com | D5: 0257349404 | E5: 0257349404
A6: LICEUL TEORETIC "MIHAI VELICIU" CHISINEU-CRIS | B6: CHISINEU CRIS, STRADA PRIMAVERII NR.3-5, JUDETUL ARAD | C6: liceulcris@gmail.com | D6: 0257350900 | E6: 0257350900
A7: ŞCOALA GIMNAZIALĂ "MIHAI EMINESCU" ARAD | B7: ARAD, STR. EPISCOPIEI, NR. 40-42 | C7: scoalagenerala_mihaieminescu@yahoo.com | D7: 0257280916 | E7: 0257467280
A8: LICEUL TEHNOLOGIC DE CONSTRUCŢII ŞI PROTECŢIA MEDIULUI ARAD | B8: ARAD STR. IOAN FLUIERAS NR. 10 C | C8: colteharad@yahoo.com | D8: 0257-275126 | E8: 0257-275126
A9: LICEUL TEHNOLOGIC "ION CREANGĂ" CURTICI | B9: Curtici, str. Revoluţiei, nr. 37 | C9: liceultehnologiccurtici@yahoo.ro | D9: 0257464147 | E9: 0257464147
A10: COLEGIUL PARTICULAR "VASILE GOLDIŞ" ARAD | B10: Arad, strada Feleacului nr.1 | C10: cpvgarad@yahoo.com | D10: 0257256394 | E10: 0257256394
A11: LICEUL TEORETIC "MIHAI VELICIU" CHISINEU-CRIS | B11: CHISINEU CRIS, STRADA PRIMAVERII, NR.3-5, JUDETUL ARAD | C11: liceulcris@gmail.com | D11: 0257350900 | E11: 0257950900
A12: LICEUL TEORETIC "JOZEF GREGOR TAJOVSKY" NĂDLAC | B12: Piața Unirii, Nr. 2, Loc. Nădlac, Jud. Arad | C12: lic_nadlac@yahoo.com | D12: 0257474340 | E12: 0257474340
A13: COLEGIUL TEHNOLOGIC DE INDUSTRIE ALIMENTARĂ ARAD | B13: ARAD, str. Lucian Blaga nr. 15 | C13: ind_alimarad2005@yahoo.com | D13: 0257281547 | E13: 0257281547
A14: GRĂDINIŢA "SAMARITEANUL" NR 11 SÂMBĂTENI | B14: Sîmbăteni, nr. 422 | C14: sgradinita@yahoo.com | D14: 0257518000
A15: ŞCOALA GIMNAZIALĂ LIVADA | B15: com.Livada,nr.80-81,jud.Arad | C15: scoala1livada@yahoo.com | D15: 0257381053 | E15: 0257381053
A16: GRĂDINIŢA PP "TOY STORY" ARAD | B16: calea timisorii nr 6 arad | C16: almona_butcovan@yahoo.com | D16: 0740146904 | E16: 0357414136
A17: GRĂDINIŢA PN "GOSEN" ARAD | B17: str, Calea Aurel Vlaicu, nr. 121-125, Arad | C17: gradinitagosen@yahoo.com | D17: 0257272477 | E17: 0257272477
A18: ŞCOALA GIMNAZIALĂ "CAIUS IACOB" ARAD | B18: ARAD, STR. NUCET NR. 3 | C18: gimnazialacaiusiacob@yahoo.com | D18: 0257-368888 | E18: 0257-368888
A19: LICEUL TEHNOLOGIC "FRANCISC NEUMAN" ARAD | B19: ARAD, STR. SAVA TEKELIJA NR.1 | C19: textilneuman@yahoo.com | D19: 0257-281942 | E19: 0257-280887
A20: ŞCOALA GIMNAZIALĂ "PĂDURENI" CHIŞINEU CRIŞ | B20: STRADA LILIACULUI, Nr. 14-16, LOC. CHIȘINEU-CRIȘ | C20: sgpadureni@yahoo.com | D20: 0257350055 | E20: 0257350055
A21: GRĂDINIŢA PP "LITTLE STAR" ARAD | B21: Arad,str.Andrei Saguna 152 | C21: littlestararad@yahoo.com | D21: 0724467423
A22: LICEUL TEORETIC "ADAM MULLER GUTTENBRUNN" ARAD | B22: STR.POSADA , NR.19 | C22: secretariat@ltamg.ro | D22: 0257286402 | E22: 0257286402
A23: ŞCOALA GIMNAZIALĂ GROŞENI | B23: str. Principala, com. Archiș, loc. Groșeni, nr. 269 | C23: scoalagroseni@yahoo.com | D23: 0257323856 | E23: 0257323856
A24: ŞCOALA GIMNAZIALĂ BUTENI | B24: COM.BUTENI ,NR.5,JUD ARAD | C24: scoalabuteni@yahoo.com | D24: 0257320088 | E24: 0257320088
A25: ŞCOALA GIMNAZIALĂ ZARAND | B25: com. Zărand, nr.901, jud.Arad | C25: scoalazarand@yahoo.com | D25: 0257359114 | E25: 0257359114
A26: ŞCOALA GIMNAZIALĂ "SIMONYI IMRE" SATU NOU | B26: SATU-NOU,nr.231,com.Mișca,jud.Arad | C26: scoala_satu_nou@yahoo.com | D26: 0257-354514 | E26: 0257-354514
A27: SCOALA "SPERANTA" MACEA | B27: Macea, nr. 780 | C27: scoala.speranta@yahoo.com | D27: 0746050690
A28: ŞCOALA GIMNAZIALĂ ŢIPAR | B28: ȚIPAR nr.261-263 com. SINTEA MARE jud.ARAD | C28: scoalatipar@yahoo.com | D28: 0257357900 | E28: 0257357900
A29: GRĂDINIŢA PP "CURCUBEUL COPIILOR" ARAD | B29: ARAD,STR.SIMION BALINT, NT.7-9 | C29: gradinitapp20@yahoo.com | D29: 0257257486 | E29: 0257257486
A30: ŞCOALA GIMNAZIALĂ "CORNELIU MICLOSI" COVĂSINŢ | B30: com.Covăsânț ,str.Corneliu Micloși,nr.28 ,jud.Arad | C30: scoalacovasant@gmail.com | D30: 0257385106 | E30: 0257385106
A31: COLEGIUL ECONOMIC ARAD | B31: Arad, Str. Mihai Eminescu, nr. 15 | C31: colecoarad@yahoo.com | D31: 0257-281529 | E31: 0257-281529
A32: COLEGIUL DE ARTE "SABIN DRAGOI" ARAD | B32: Arad, Bulevardul Revolutiei nr. 20 | C32: liceulsabindragoi@yahoo.com | D32: 0257281645 | E32: 0257281645
A33: COLEGIUL NAŢIONAL "ELENA GHIBA BIRTA" ARAD | B33: B-DUL DRAGALINA, NR.6, ARAD | C33: cngbirta@yahoo.com | D33: 0257280937 | E33: 0257281937
A34: ŞCOALA GIMNAZIALĂ VLADIMIRESCU | B34: STR. GĂRII, NR. 59, LOC. VLADIMIRESCU, JUD. ARAD | C34: scoala_vladimirescu@yahoo.com | D34: 0257514903 | E34: 0257514903
A35: LICEUL TEORETIC SEBIŞ | B35: Sebiș, bd. Victoriei, nr. 7, jud. Arad | C35: liceulsebis@yahoo.com | D35: 0257310711 | E35: 0257311063
A36: ŞCOALA GIMNAZIALĂ "PAVEL COVACI" MACEA | B36: Macea, nr.527 | C36: scoala_macea@yahoo.com | D36: 0257/536111 | E36: 0257/536111
A37: LICEUL TEHNOLOGIC DE ELECTRONICĂ ŞI AUTOMATIZĂRI "CAIUS IACOB" ARAD | B37: P-ȚA CAIUS IACOB NR.1 | C37: lic.caiusiacob@gmail.com | D37: 0257212383 | E37: 0357413591
A38: ŞCOALA GIMNAZIALĂ "TABAZDI KAROLY" ZERIND | B38: Zerind Nr. 386 cod poștal 317420 | C38: sczerind@gmail.com | D38: 0257355525 | E38: 0257355525
A39: ŞCOALA GIMNAZIALĂ "IOAN SLAVICI" ŞIRIA | B39: loc. Șiria, str.85 Infanterie, nr.1833, jud. Arad | C39: scoalasiria@yahoo.com | D39: 0257531184 | E39: 0257531184
... A45: LICEUL TEHNOLOGIC "STEFAN HELL" SÂNTANA | B45: Santana str. Ghioceilor nr.6 | C45: grupulscolarsantana@yahoo.com | D45: 0257462124 | E45: 0257462127
A46: ŞCOALA GIMNAZIALĂ FISCUT | B46: Loc. Fiscut, nr. 157-158 | C46: scoalafiscut@yahoo.com | D46: 0371004454
A47: ŞCOALA PRIMARĂ "SFÂNTUL IERARH NICOLAE" ARAD | B47: Strada Petru Rareș, nr. 4 | C47: secretariat@scoalaortodoxaarad.ro | D47: 0357 411411 | E47: 0357 411411
A48: ŞCOALA GIMNAZIALĂ ŞAGU | B48: Loc. Sagu, nr. 178 | C48: scoala_sagu@yahoo.com | D48: 0257418108
A49: ŞCOALA GIMNAZIALĂ "VASILE POP" BOCSIG | B49: Bocsig , str principala, nr. 569 | C49: scoalabocsig@gmail.com | D49: 0257325102 | E49: 0257325102
A50: ŞCOALA GIMNAZIALĂ "REGINA MARIA" ARAD | B50: ARAD, STRADA MIORIȚA, NR. 9/A | C50: scoala12arad@yahoo.com | D50: 0257262762 | E50: 0257262762
A51: SEMINARUL TEOLOGIC ORTODOX ARAD | B51: Str. Academia Teologica nr.11-13 | C51: seminort@yahoo.com | D51: 0257285292 | E51: 0257285292
A52: LICEUL TEORETIC PÂNCOTA | B52: Str. Vasile Goldiş Nr. 67 | C52: liceulteoreticpincota@yahoo.com | D52: 0257466316 | E52: 0257466316
A53: ŞCOALA GIMNAZIALĂ SECUSIGIU | B53: SECUSIGIU NR 334 | C53: scoalasecusigiu55@yahoo.com | D53: 0257411410 | E53: 0257411410
A54: ŞCOALA GIMNAZIALĂ ŞILINDIA | B54: Strada Principala, nr.62 | C54: scoalasilindia@yahoo.com | D54: 0257/372617 | E54: 0257/372617
A55: ŞCOALA GIMNAZIALĂ "TITUS POPOVICI" MIŞCA | B55: str. Principală nr. 34 | C55: tituspopovicimisca@yahoo.com | D55: 0257354105 | E55: 0257354105
A56: LICEUL TEORETIC CERMEI | B56: Loc. CERMEI, Nr.889, str. PRINCIPALĂ | C56: grsccermei@yahoo.com | D56: 0257328119 | E56: 0257328119
A57: ŞCOALA GIMNAZIALĂ SELEUŞ | B57: COM.SELEUS,NR.197 | C57: scoalaseleus@yahoo.com | D57: 0257329113 | E57: 0257329113
A58: LICEUL TEHNOLOGIC "SAVA BRANCOVICI" INEU | B58: INEU, CALEA TRAIAN ,NR.2 | C58: impreuna_ineu@yahoo.com | D58: 0257521988 | E58: nu
A59: ŞCOALA GIMNAZIALĂ IRATOŞU | B59: LOC. IRATOȘU,NR. 547 | C59: scoala_iratosu@yahoo.co.uk | D59: 0257/454005 | E59: 0257/454005
A60: ŞCOALA GIMNAZIALĂ "EMIL MONTIA" ŞICULA | B60: str. Principala, nr. 270, Șicula | C60: scoalageneralasicula@yahoo.com | D60: 0257326016 | E60: 0257326016
... A86: ŞCOALA PRIMARĂ IGNEŞTI | B86: IGNEȘTI NR.36 | C86: scoalaignesti@yahoo.com | D86: 0257315566 | E86: 0257315566
A87: GRĂDINIŢA PP "FURNICUŢA" ARAD | B87: Arad, str. Constantin Brâncuşi, FN | C87: gradinitapp10arad@yahoo.com | D87: 257274448 | E87: 257274448
A88: ŞCOALA GIMNAZIALĂ DEZNA | B88: DEZNA,BULEVARDUL AVRAM IANCU NR.64 | C88: scdezna@gmail.com | D88: 0257312602 | E88: 0257312602
A89: LICEUL SPECIAL "SFÂNTA MARIA" ARAD | B89: Arad, str. Ghica - Vodă nr. 4-10 | C89: ldvarad@yahoo.com | D89: 0257280947 | E89: 0257280947
A90: ŞCOALA GIMNAZIALĂ NR 2 PECICA | B90: ORAS PECICA STR.2 NR.176 | C90: sc2pecica@gmail.com | D90: 0257/468088 | E90: 0257/468088
A91: LICEUL "IOAN BUTEANU" GURAHONŢ | B91: STR. IOAN BUTEANU, NR. 11, LOC. GURAHONȚ | C91: liceulgurahont@yahoo.com | D91: 0257316138 | E91: 0257316550
A92: ŞCOALA GIMNAZIALĂ FRUMUŞENI | B92: FRUMUSENI,NR. 184 | C92: scoalafrumuseni@yahoo.com | D92: 0257455006 | E92: 0257455006
A93: GRĂDINIŢA PP "PITICOT" ARAD | B93: Arad, strada Griviței nr. 17 | C93: gradinita19arad@yahoo.com | D93: 0357425020 | E93: 0357425020
A94: COLEGIUL NAŢIONAL "MOISE NICOARĂ" ARAD | B94: PIAȚA MARGARETA BIBICI NR.1 | C94: cnmnicoara@yahoo.co.uk | D94: 0257/280598 | E94: 0257/214190
A95: ŞCOALA GIMNAZIALĂ "IOSIF MOLDOVAN" ARAD | B95: ARAD, STR. OITUZ, NR.108-114 | C95: generala_3_arad@yahoo.com | D95: 0257280091 | E95: 0257280091
A96: ŞCOALA GIMNAZIALĂ "OLOSZ LAJOS" ADEA | B96: 317301 ADEA NR.87.JUD ARAD | C96: scoalaadea@yahoo.com | D96: 0257357667 | E96: 0257357667
A97: ŞCOALA GIMNAZIALĂ "SABIN DRĂGOI" PETRIŞ | B97: PETRIS, NR. 289, JUD. ARAD | C97: scoalageneralapetris@yahoo.com | D97: 0257433707 | E97: 0257433707
A98: GRĂDINIŢA PP "PALATUL FERMECAT" ARAD | B98: Str. Poetului FN | C98: gradinitapp17arad@yahoo.com | D98: 0257349610 | E98: 0257349610
A99: GRĂDINIŢA PP "LICURICI" ARAD | B99: Str. Bucegi , Nr. 1 , Arad | C99: adinaleucuta@yahoo.com | D99: 0722311040
A100: GRĂDINIŢA "SAMARITEANUL" NR 23 BUTENI | B100: BUTENI NR.66A | C100: gradinitabuteni@yahoo.com | D100: 0257320430
A101: ŞCOALA GIMNAZIALĂ "IUSTIN MARSIEU" SOCODOR | B101: Socodor nr 332 | C101: generala.socodor@gmail.com | D101: 0257358109 | E101: 0257358109
A102: ŞCOALA GIMNAZIALĂ "LAZĂR TÂMPA" ALMAŞ | B102: ALMAȘ, NR. 190-191 | C102: scolalaltalmas@yahoo.com | D102: 0257313318 | E102: 0257313318
A103: ŞCOALA GIMNAZIALĂ FÂNTÂNELE | B103: FÂNTÂNELE NR. 126, JUDEȚUL ARAD | C103: fintinele2004@yahoo.com | D103: 0257456103 | E103: 0257456103
A104: LICEUL TEHNOLOGIC "AUREL VLAICU" ARAD | B104: Bulevardul Decebal nr.31 A | C104: licvlaicu@yahoo.com | D104: 0257281437 | E104: 0257281773
A105: GRĂDINIŢA PP NR.14 ARAD | B105: loc. Arad, str. Patria, nr. 2-4, jud. Arad | C105: gradinita_pp14@yahoo.com | D105: 0257/281965 | E105: 0257/281965
A106: ŞCOALA PROFESIONALĂ "ASTRA" ARAD | B106: ARAD STR . PETRU RAREȘ NR 1-3 | C106: scoalaastra@gmail.com | D106: 0257250041 | E106: 0257250043
A107: GRĂDINIŢA PP "CĂSUŢA PITICILOR" ARAD | B107: Arad, strada Calea Radnei nr. 248 | C107: gradinitapp18arad@yahoo.com | D107: 0257219939 | E107: 0257219939
A108: ŞCOALA GIMNAZIALĂ PILU | B108: PILU, nr.35 | C108: scoalapilu@yahoo.com | D108: 0257353706 | E108: 0257353706
A109: GRĂDINIŢA PP "BAMBI" ARAD | B109: Arad, str. Ion Ratiu,nr 14 | C109: gradinitabambi.2004@gmail.com | D109: 0744855643 | E109: 0257257187
A110: LICEUL NAŢIONAL DE INFORMATICĂ ARAD | B110: B-DUL IULIU MANIU NR. 39-41 | C110: secretariat_maniu@yahoo.com | D110: 0257-253968 | E110: 0257-228378
A111: ŞCOALA GIMNAZIALĂ "MORA FERENC" ZIMANDU NOU | B111: Zimandu Nou, nr. 338 | C111: zimandiskola@yahoo.com | D111: 0257380119 | E111: 0257380119
A112: GRĂDINIŢA PP NR 1 ARAD | B112: loc. Arad, str. T. Vladimirescu, nr. 20-22, jud. Arad | C112: gradinitapp1@yahoo.com | D112: 0257/231752 | E112: 0257/231752
A113: LICEUL TEHNOLOGIC UCECOM "SPIRU HARET" ARAD | B113: Str. Emil Gârleanu, nr. 1 | C113: spiruharetarad@yahoo.com | D113: 0257280967 | E113: 0257280995
A114: ŞCOALA PRIMARĂ "SEVER BOCU" ŞIŞTAROVĂŢ | B114: str. Principală, nr. 116A, com. Șiștarovăț | C114: scoalasistarovat@yahoo.com | D114: 0374005852
A115: ŞCOALA GIMNAZIALĂ NR 2 CURTICI | B115: CURTICI, STR. ION RUSU ȘIRIANU, NR.20-22 | C115: curtici2@gmail.com | D115: 0257456106 | E115: 0257456106
A116: ŞCOALA GIMNAZIALĂ "ŞTEFAN CICIO-POP" CONOP | B116: Conop nr 1-2 | C116: scoalaconop@yahoo.com | D116: 0257433000 | E116: 0257433000
A117: ŞCOALA POSTLICEALĂ SANITARĂ ARAD | B117: Calea Victoriei nr. 1-3 | C117: sanpostliceal@yahoo.com | D117: 0257281497 | E117: 0257281497
A118: ŞCOALA GIMNAZIALĂ HĂLMĂGEL | B118: Hălmăgel, nr.4/B | C118: scoala.halmagel@yahoo.com | D118: 0257319633 | E118: 0257319633
A119: ŞCOALA GIMNAZIALĂ CRAIVA | B119: CRAIVA, NR.167 | C119: scgimcraiva@yahoo.com | D119: 0257324122 | E119: 0257324050
A120: CENTRUL ŞCOLAR PENTRU EDUCAŢIE INCLUZIVĂ ARAD | B120: str. CĂPITAN IGNAT, nr. 10, ARAD | C120: scspeciala_arad@yahoo.com | D120: 0257280291 | E120: 0257280301
A121: GRĂDINIŢA PP "GRĂDINIŢA VESELIEI" CURTICI | B121: CURTICI, STR. REVOLUȚIEI NR.37G | C121: gradinita_veseliei@yahoo.com | D121: 0257 465723 | E121: 0257 465723
A122: ŞCOALA GIMNAZIALĂ CĂRAND | B122: Carand 160A | C122: acarand@yahoo.com | D122: 0257321543 | E122: 0257321543
A123: COLEGIUL"CSIKY GERGELY" ARAD | B123: Arad, Str. Varful cu dor, nr. 22 | C123: csikyg@yahoo.com | D123: 0257210002 | E123: 0257210002
A124: ŞCOALA GIMNAZIALĂ SINTEA MARE | B124: SINTEA MARE, NR. 232 | C124: scsinteamare@yahoo.com | D124: 0257357195 | E124: 0257357195
A125: GRĂDINIŢA PP "GRĂDINIŢA PRIETENIEI" ARAD | B125: PREDEAL, NR.3 | C125: gradinitapp16arad@yahoo.com | D125: 0257349939 | E125: 0347425100
A126: COLEGIUL "MIHAI VITEAZUL" INEU | B126: CALEA TRAIAN, NR. 7 | C126: gsmv.ineu@yahoo.com | D126: 0257511777 | E126: 0257511149; 0257511544
A127: GRĂDINIŢA "SAMARITEANUL" NR 2 SEBIS | B127: Sebis, Str.Victoriei, Nr.13 | C127: gradinitasamariteanul2@yahoo.com | D127: 0257310138
A128: CLUBUL COPIILOR CHIŞINEU CRIŞ | B128: Loc. CHISINEU CRIS Str. Infratirii Nr. 77. | C128: clubulcopiilor_cris@ymail.com | D128: 0257/350185 | E128: 0257/350185
A129: ŞCOALA POSTLICEALĂ FEG ARAD | B129: Str. B-dul Revoluției, nr. 77 , Arad | C129: scoala_fegarad@yahoo.com | D129: 0760663937 | E129: Nu avem
A130: CLUBUL COPIILOR SEBIŞ | B130: loc.Sebis, str.Romana, nr.4, jud.Arad | C130: clubulcopiilorsebisineu@gmail.com | D130: 0257320562 | E130: 0257320562
...

Sheet Foaie2
A2: CASA CORPULUI DIDACTIC "ALEXANDRU GAVRA" ARAD | B2: =VLOOKUP(A2,AR!A:A,1,FALSE) -> CASA CORPULUI DIDACTIC "ALEXANDRU GAVRA" ARAD
A3: CENTRUL JUDEŢEAN DE RESURSE ŞI DE ASISTENŢĂ EDUCAŢIONALĂ ARAD | B3: =VLOOKUP(A3,AR!A:A,1,FALSE) -> CENTRUL JUDEŢEAN DE RESURSE ŞI DE ASISTENŢĂ EDUCAŢIONALĂ ARAD
A4: CENTRUL ŞCOLAR PENTRU EDUCAŢIE INCLUZIVĂ ARAD | B4: =VLOOKUP(A4,AR!A:A,1,FALSE) -> CENTRUL ŞCOLAR PENTRU EDUCAŢIE INCLUZIVĂ ARAD
A5: CLUBUL COPIILOR CHIŞINEU CRIŞ | B5: =VLOOKUP(A5,AR!A:A,1,FALSE) -> CLUBUL COPIILOR CHIŞINEU CRIŞ
A6: CLUBUL COPIILOR SEBIŞ | B6: =VLOOKUP(A6,AR!A:A,1,FALSE) -> CLUBUL COPIILOR SEBIŞ
A7: CLUBUL SPORTIV ŞCOLAR "GLORIA" ARAD | B7: =VLOOKUP(A7,AR!A:A,1,FALSE) -> CLUBUL SPORTIV ŞCOLAR "GLORIA" ARAD
A8: COLEGIUL "MIHAI VITEAZUL" INEU | B8: =VLOOKUP(A8,AR!A:A,1,FALSE) -> COLEGIUL "MIHAI VITEAZUL" INEU
A9: COLEGIUL DE ARTE "SABIN DRAGOI" ARAD | B9: =VLOOKUP(A9,AR!A:A,1,FALSE) -> COLEGIUL DE ARTE "SABIN DRAGOI" ARAD
A10: COLEGIUL ECONOMIC ARAD | B10: =VLOOKUP(A10,AR!A:A,1,FALSE) -> COLEGIUL ECONOMIC ARAD
A11: COLEGIUL NAŢIONAL "ELENA GHIBA BIRTA" ARAD | B11: =VLOOKUP(A11,AR!A:A,1,FALSE) -> COLEGIUL NAŢIONAL "ELENA GHIBA BIRTA" ARAD
A12: COLEGIUL NAŢIONAL "MOISE NICOARĂ" ARAD | B12: =VLOOKUP(A12,AR!A:A,1,FALSE) -> COLEGIUL NAŢIONAL "MOISE NICOARĂ" ARAD
A13: COLEGIUL NAŢIONAL "PREPARANDIA-DIMITRIE ŢICHINDEAL" ARAD | B13: =VLOOKUP(A13,AR!A:A,1,FALSE) -> COLEGIUL NAŢIONAL "PREPARANDIA-DIMITRIE ŢICHINDEAL" ARAD
... A164: ŞCOALA SPECIALĂ "RAZA DE SOARE" ARAD | B164: =VLOOKUP(A164,AR!A:A,1,FALSE) -> ŞCOALA SPECIALĂ "RAZA DE SOARE" ARAD
